BEGIN:VCALENDAR
VERSION:2.0
PRODID:-//SSPAP - ECPv6.15.0.1//NONSGML v1.0//EN
CALSCALE:GREGORIAN
METHOD:PUBLISH
X-WR-CALNAME:SSPAP
X-ORIGINAL-URL:https://sspap.sk
X-WR-CALDESC:Udalosti pre SSPAP
REFRESH-INTERVAL;VALUE=DURATION:PT1H
X-Robots-Tag:noindex
X-PUBLISHED-TTL:PT1H
BEGIN:VTIMEZONE
TZID:Europe/Helsinki
BEGIN:DAYLIGHT
TZOFFSETFROM:+0200
TZOFFSETTO:+0300
TZNAME:EEST
DTSTART:20250330T010000
END:DAYLIGHT
BEGIN:STANDARD
TZOFFSETFROM:+0300
TZOFFSETTO:+0200
TZNAME:EET
DTSTART:20251026T010000
END:STANDARD
END:VTIMEZONE
BEGIN:VEVENT
DTSTART;TZID=Europe/Helsinki:20251104T190000
DTEND;TZID=Europe/Helsinki:20251104T203000
DTSTAMP:20260421T131826
CREATED:20251027T081447Z
LAST-MODIFIED:20251027T081447Z
UID:5135-1762282800-1762288200@sspap.sk
SUMMARY:Intervízne stretnutie pre členov SSPAP
DESCRIPTION:Prezentuje: Mgr. Daniela Březnová \nÚčelom stretnutí je snaha o vytvorenie bezpečného pracovno-kolegiálneho tvorivého prostredia. Cez prezentáciu vlastnej práce s pacientami sa navzájom spoznávať a vzájomne rozvíjať psychoanalytické myslenie. \nŠtruktúra: Krátke predstavenie pacienta a prepis jednej terapeutickej hodiny\, v čo najväčších podrobnostiach\, aj s popisom úvah terapeuta\, v trvaní 45-50 min. Následné otázky a diskusia. \nMiesto a čas: Stretnutia sa uskutočnia každý prvý utorok v mesiaci od 19.00 do 20.30 online (zoom). \nNa akciu je nutné sa vopred prihlásiť. \nKoordinátor stretnutí MUDr.V.Kopas \nkopas@sspap.sk \nviktor.kopas@gmail.com
URL:https://sspap.sk/event/intervizne-stretnutie-pre-clenov-sspap-11/
CATEGORIES:Intervízia pre riadnych členov
ATTACH;FMTTYPE=image/jpeg:https://sspap.sk/wp-content/uploads/2024/10/hands2.jpg
END:VEVENT
BEGIN:VEVENT
DTSTART;VALUE=DATE:20251107
DTEND;VALUE=DATE:20251108
DTSTAMP:20260421T131826
CREATED:20250717T125742Z
LAST-MODIFIED:20250913T163559Z
UID:5103-1762473600-1762559999@sspap.sk
SUMMARY:Deň Sándora Lóránda
DESCRIPTION:S radosťou Vás pozývame na Deň Sándora Lóránda\, ktorý sa uskutoční\n7. novembra 2025 v Dunajskej Strede. \nSándor Ferenczi si želal\, aby jeho analyzand\, Sándor Lóránd – pôvodom z okolia Košíc – vytvoril most medzi maďarskou a českou psychoanalytickou komunitou. V dôsledku otrasov 20. storočia sa však tento zámer nenaplnil. S úsilím splniť túto víziu sme pri príležitosti 150. výročia narodenia Ferencziho zorganizovali mini-konferenciu s názvom Ferencziho deň v Zlatej záhrade\, na ktorej vystúpila Judit Mészáros\, prezidentka Ferencziho spoločnosti\, za účasti maďarských\, slovenských a českých kolegov. \nLóránda prvá vlna emigrácie zaviala až do New Yorku\, kde zohral dôležitú úlohu pri organizovaní newyorskej psychoanalytickej školy a spoločnosti; v rokoch 1947 – 1948 bol dokonca predsedom tejto spoločnosti. Sándor Lóránd\, úspešný psychoanalytik židovského a maďarského pôvodu\, ktorého život a práca sú spojené aj s Košicami a Bratislavou\, je napriek tomu na slovenskej aj maďarskej strane neprávom málo známy. \nNa Dni Sándora Lóránda bude predstavený výskumný materiál o ňom\, zozbieraný v Kongresovej knižnici vo Washingtone\, v knižnici A. Brilla Newyorskej psychoanalytickej spoločnosti a v Štátnom archíve v Košiciach. Inšpirovaní Lórándovou klinickou a organizačnou činnosťou a ich syntézou s „geniom loci“ sú ústrednými témami konferencie: \n\nStredoeurópske traumy a ich psychologické dôsledky\nDejiny a história psychoanalýzy v našom regióne\nKolektívne psyché v zrkadle spoločenských zmien\nMenšinová existencia\, identita a úloha jazyka v terapii\n\nNaši prednášatelia\n\nKathleen Kelley Lainé (Société Psychanalytique de Paris\, EPF\, IPA): Ferenczi’s mother tongue and the social fabric – link na knihu\nDaniela Březnová (Slovenská spoločnosť pre psychoanalytickú psychoterapiu): Is The Good Place a Good Place to Be? – Premena od halucinácie k myšlienke\nBorgos Anna (Psychologický ústav\, Maďarská akadémia vied): Ženské osudy a perspektívy v budapeštianskej škole psychoanalýzy\nFaluvégi Katalin (PPKE BTK): Verbálne a neverbálne jazyky Sándora Ferencziho – úvahy na základe jazykových pozorovaní v „Zápiskoch“\nTóth Erzsébet Fanni (Sigmund Freud University\, Institute for Transgenerational Trauma Transfer Research): Transgenerational Transmission of Wartime Trauma in Southern Slovakia\nMartin Babík (Slovenská psychoanalytická spoločnosť): Po stopách priekopníkov psychoanalýzy na Slovensku: Samuel Lőwy – žiak Wilhelma Stekela\nÁgh Dávid (SSPAP\, Maďarská psychoanalytická spoločnosť – Psychoanalyticky orientovaná sekcia): Predstavenie Sándora Lóránda – následne premietanie krátkeho filmu z XI. medzinárodného psychoanalytického kongresu v Oxforde\n\n Program otvorený pre širokú verejnosť\n\nOtvorenie sekcie s Dávidom Ághom – Mesto\, ktoré stratilo seba: trauma\, narcizmus\, identita\nLucia Molnár Satinská (Slovenská akadémia vied): Viacjazyčnosť\, materinské jazyky a identity v slovensko-maďarskom prostredí na Slovensku v 21. storočí  video\nDiskusia so spisovateľkou Katarínou Durica (vydavateľstvo Piros hó)\, autorka piatich románov\, medzi nimi aj „Rendes lányok csendben sírnak“\, ktorý sa zaoberá ženskými obeťami dunajskostredskej mafie. Na svoju knihu roky zbierala svedectvá dotknutých\, obetí aj páchateľov.  https://www.youtube.com/watch?v=V8kUwVjriQA\n\n\nPremietanie filmu: Ema a smrtihlav – rozhovor s členom štábu\n\nDátum: 7. november 2025\, piatok\nMiesto: Dunajská Streda\, Mestské kultúrne stredisko Benedeka Csaplára\nJazyky konferencie: maďarčina\, slovenčina\, angličtina – so simultánnym tlmočením \nÚčastnícky poplatok \n\nVstupné: 35 €\nŠtudentské vstupné: 15 € (so študentským preukazom)\n\nPrihlásenie: \nOdborná sekcia     https://forms.gle/S7jcZ5upbcvmBXQH8 \nSekcia otvorená pre širokú verejnosť:  ⁦https://forms.gle/MGL5szyuf9icGAKk8 \nPlatba: IBAN: SK73 0900 0000 00518765 9181\nDo poznámky uveďte: svoje meno \nTešíme sa na Vás a na Vašu účasť v spoločnom premýšľaní! \nS úctou\,\nZlatá Záhrada a Občianske združenie L’élek Pont
URL:https://sspap.sk/event/den-sandora-loranda/
LOCATION:Dunajská streda\, Dunajská streda\, Slovakia (Slovak Republic)
CATEGORIES:Ostatné
ATTACH;FMTTYPE=image/jpeg:https://sspap.sk/wp-content/uploads/2025/07/Sandor-Lorand.jpg
END:VEVENT
BEGIN:VEVENT
DTSTART;VALUE=DATE:20251108
DTEND;VALUE=DATE:20251109
DTSTAMP:20260421T131826
CREATED:20250505T205356Z
LAST-MODIFIED:20250505T205356Z
UID:5046-1762560000-1762646399@sspap.sk
SUMMARY:Skupinové nevedomie\, zrkadlenie\, výmena\, rezonancia
DESCRIPTION:Pozývame Vás na celodenné vzdelávanie zo série Teória skupinovej psychoterapie\, so zameraním na skupinovú analýzu. \n9:00-10:30 a 11:00-12:30 \nSkupinové nevedomie – teória\, Matrix (základný a dynamický)\,  Sociálne nevedomie a veľká skupina\,  prednáša: Mgr. Anna Nagajová \n14:00-15:30 a 16:00-17:30 \nZrkadlenie\, výmena a rezonancia \, prednáša: Mgr. Daniela Březnová \nviac informácií nájdete na \n\nVZDELÁVANIE V SKUPINOVEJ ANALÝZE
URL:https://sspap.sk/event/skupinove-nevedomie-zrkadlenie-vymena-rezonancia/
LOCATION:zoom
CATEGORIES:Semináre SSPAP
ATTACH;FMTTYPE=image/jpeg:https://sspap.sk/wp-content/uploads/2025/05/skupinova-terapia1.jpg
END:VEVENT
BEGIN:VEVENT
DTSTART;TZID=Europe/Helsinki:20251118T190000
DTEND;TZID=Europe/Helsinki:20251118T203000
DTSTAMP:20260421T131826
CREATED:20250701T192715Z
LAST-MODIFIED:20250915T155703Z
UID:5099-1763492400-1763497800@sspap.sk
SUMMARY:MINISÉRIA 2. – Telo ako komunikačný nástroj
DESCRIPTION:Prezentuje:  Mgr. Daniela Březnová \nPredstavujeme Vám MINISÉRIU II.  V troch na seba nadväzujúcich klinických seminároch sa zameriame na určité oblasti v práci s klientom z pohľadu psychoanalýzy a psychoanalytickej psychoterapie. Tentokrát sa zameriame na TELO AKO SCÉNU NEVEDOMIA: Psychoanalytický pohľad na psychosomatiku. \nPsychoanalýza chápe telesné symptómy ako dôsledok zlyhania psychického spracovania\, najmä funkcie konteinovania a transformácie primitívnych emočných zážitkov (Bion). Keď psychická kapacita chýba\, telo sa stáva jediným prostriedkom prejavu psychickej reality. Kontakt s týmito nespracovanými obsahmi môže byť zažívaný ako život ohrozujúci; a tak psychosomatické ochorenie môže slúžiť ako obrana pred psychickým kolapsom (Green\, Marty). \nNa prvom seminári (16. 9. 2025) Na prvom seminári Achilllova päta každého tela bude MUDr. Viktor Kopas hovoriť o Locus minoris resisteciae – achylovej päte každého tela. \nDruhý seminár (21.10. 2025)  Psychosomatika v terapeutickej miestnosti povedie Mgr. Erika Mlejnková. Predstaví ako rozumie prejavom tela v terapeutickej miestnosti s ukážkami z vlastnej praxe. \nNa treťom seminári (18.11. 2025) Telo ako komunikačný nástroj\, Mgr. Daniela Březnová predstaví na klinickej ukážke post-bionovské chápanie somatických prejavov. \n  \nŠtruktúra: Oblasť/koncept je najprv stručne predstavená teoreticky\, s pokračovaním príkladmi z praxe. Očakáva sa\, že účastníci budú aktívne diskutovať. \nMiesto a čas: 18.11.  od 19.00 do 20.30 online (zoom). \nNa akciu je nutné sa vopred prihlásiť. Cena: 25 Eur členovia a kandidáti SSPAP a 35 Eur pre nečlenov (psychoterapeutov z iných terapeutických spoločností) za celú minisériu (3x 90 min semináre).  Stretnutia prebiehajú online cez ZOOM. \nPrihlásiť sa môžete na email: daniela.breznova@gmail.com . Po úhrade platby na náš účet (pozn. Vaše meno a PSYCHOSOMATIKA)\, Vám zašleme prihlasovacie údaje na seminár. Prosím\, platbu uskutočnite\, až keď Vám príde potvrdzovací email o účasti.
URL:https://sspap.sk/event/miniseria-2-telo-ako-komunikacny-nastroj/
CATEGORIES:Semináre SSPAP
ATTACH;FMTTYPE=image/jpeg:https://sspap.sk/wp-content/uploads/2025/07/psychosomatic-small.jpg
END:VEVENT
END:VCALENDAR