BEGIN:VCALENDAR
VERSION:2.0
PRODID:-//SSPAP - ECPv6.15.0.1//NONSGML v1.0//EN
CALSCALE:GREGORIAN
METHOD:PUBLISH
X-ORIGINAL-URL:https://sspap.sk
X-WR-CALDESC:Udalosti pre SSPAP
REFRESH-INTERVAL;VALUE=DURATION:PT1H
X-Robots-Tag:noindex
X-PUBLISHED-TTL:PT1H
BEGIN:VTIMEZONE
TZID:Europe/Helsinki
BEGIN:DAYLIGHT
TZOFFSETFROM:+0200
TZOFFSETTO:+0300
TZNAME:EEST
DTSTART:20260329T010000
END:DAYLIGHT
BEGIN:STANDARD
TZOFFSETFROM:+0300
TZOFFSETTO:+0200
TZNAME:EET
DTSTART:20261025T010000
END:STANDARD
END:VTIMEZONE
BEGIN:VEVENT
DTSTART;TZID=Europe/Helsinki:20260504T190000
DTEND;TZID=Europe/Helsinki:20260504T203000
DTSTAMP:20260420T172248
CREATED:20260117T180219Z
LAST-MODIFIED:20260117T180219Z
UID:5165-1777921200-1777926600@sspap.sk
SUMMARY:Dynamika slovenských rozprávok II.
DESCRIPTION:Pozývame Vás na vzdelávanie zo série Teória skupinovej psychoterapie\, so zameraním na skupinovú analýzu. \nPsychodynamika slovenských rozprávok\, prednáša: MUDr. Viktor Kopas \nviac informácií nájdete na \n\nVZDELÁVANIE V SKUPINOVEJ ANALÝZE
URL:https://sspap.sk/event/dynamika-slovenskych-rozpravok-ii/
LOCATION:zoom
CATEGORIES:Semináre SSPAP
ATTACH;FMTTYPE=image/jpeg:https://sspap.sk/wp-content/uploads/2025/05/skupinova-terapia1.jpg
END:VEVENT
END:VCALENDAR