BEGIN:VCALENDAR
VERSION:2.0
PRODID:-//SSPAP - ECPv6.15.0.1//NONSGML v1.0//EN
CALSCALE:GREGORIAN
METHOD:PUBLISH
X-WR-CALNAME:SSPAP
X-ORIGINAL-URL:https://sspap.sk
X-WR-CALDESC:Udalosti pre SSPAP
REFRESH-INTERVAL;VALUE=DURATION:PT1H
X-Robots-Tag:noindex
X-PUBLISHED-TTL:PT1H
BEGIN:VTIMEZONE
TZID:Europe/Helsinki
BEGIN:DAYLIGHT
TZOFFSETFROM:+0200
TZOFFSETTO:+0300
TZNAME:EEST
DTSTART:20250330T010000
END:DAYLIGHT
BEGIN:STANDARD
TZOFFSETFROM:+0300
TZOFFSETTO:+0200
TZNAME:EET
DTSTART:20251026T010000
END:STANDARD
END:VTIMEZONE
BEGIN:VEVENT
DTSTART;VALUE=DATE:20251016
DTEND;VALUE=DATE:20251017
DTSTAMP:20260421T131625
CREATED:20250913T160654Z
LAST-MODIFIED:20250913T160654Z
UID:5109-1760572800-1760659199@sspap.sk
SUMMARY:Psychodynamický deň SIPP: Fenomén terapeutického vzťahu
DESCRIPTION:Slovenský inštitút psychodynamickej psychoterapie organizuje  Psychodynamický deň\, ktorý sa uskutoční 16. októbra 2025 v Kongresovej sále Aquapark Trnava. \nNa tomto stretnutí si spoločne pripomenieme 25. výročie založenia Slovenského inštitútu psychodynamickej psychoterapie. Rovnako ako minulý rok\, aj teraz chceme vytvoriť priestor pre odborné podnety\, osobné stretnutia a vzájomnú inšpiráciu. \nTémou tohto ročníka bude Fenomén terapeutického vzťahu. Dúfame\, že Vás téma zaujme a očakávame Vaše príspevky\, rovnako sa tešíme na poslucháčov\, ktorí osobne prídu program odsledovať. \nPodujatie je určené len pre odborníkov\, profesionálov. \nTešíme sa na Vás! \nPhDr. Michlerová Zita \nPredsedníčka SIPP \nPODMIENKY ÚČASTI A REGISTRÁCIA \nPrihlásenie aktívnej účasti bude prebiehať: do 30. 9. 2025 \nAktívni účastníci neplatia registračný poplatok. \nPre prihlásenie aktívnej účasti je potrebné vyplniť registračný formulár a zaslať abstrakt na adresu vycvik@sippka.sk do 30. 9. 2025. \nPrednáška môže mať maximálne 20 minút. \nCenník registrácie \nRegistrácia do 30. 9. 2025 50\,- € \nRegistrácia od 01. 10. 2025 60\,- € \nAK MÁTE ZÁUJEM SA ZÚČASTNIŤ\, VYPLŇTE\, PROSÍM\, REGISTRAČNÝ FORMULÁR TU: https://docs.google.com/…/1FAIpQLScnDvSCNNv…/viewform… \nPo úspešnej registrácii vám budú na e-mail zaslané informácie k platbe. \nSTORNO PODMIENKY: \nSekretariát konferencie musí byť vyrozumený o zrušení účasti na konferencii písomne e‑mailom na info@mindcentrum.sk. Zrušenie po telefóne nebude akceptované. \n– Do 30. 9. 2025 – bez storno poplatku \n– Od 1. 10. 2025 – 100 % výška registračného poplatku. \nORGANIZAČNÝ TÍM PSYCHODYNAMICKÉHO DŇA: \nMIND centrum s.r.o.\, Piešťany \nkontaktná osoba: Mgr. Denisa Benková \nkontakt: +421 907 832 239 \ninfo@mindcentrum.sk \nTešíme sa na Vás!
URL:https://sspap.sk/event/psychodynamicky-den-sipp-fenomen-terapeutickeho-vztahu/
LOCATION:Kongresová sála Aquapark Trnava
ATTACH;FMTTYPE=image/png:https://sspap.sk/wp-content/uploads/2025/09/PSYCHODYNAMICKY-DEN-.png
END:VEVENT
END:VCALENDAR